BEGIN:VCALENDAR
VERSION:2.0
PRODID:-//Soulbaum - ECPv6.15.16//NONSGML v1.0//EN
CALSCALE:GREGORIAN
METHOD:PUBLISH
X-ORIGINAL-URL:https://soulbaum.com
X-WR-CALDESC:Events for Soulbaum
REFRESH-INTERVAL;VALUE=DURATION:PT1H
X-Robots-Tag:noindex
X-PUBLISHED-TTL:PT1H
BEGIN:VTIMEZONE
TZID:America/Los_Angeles
BEGIN:DAYLIGHT
TZOFFSETFROM:-0800
TZOFFSETTO:-0700
TZNAME:PDT
DTSTART:20240310T100000
END:DAYLIGHT
BEGIN:STANDARD
TZOFFSETFROM:-0700
TZOFFSETTO:-0800
TZNAME:PST
DTSTART:20241103T090000
END:STANDARD
BEGIN:DAYLIGHT
TZOFFSETFROM:-0800
TZOFFSETTO:-0700
TZNAME:PDT
DTSTART:20250309T100000
END:DAYLIGHT
BEGIN:STANDARD
TZOFFSETFROM:-0700
TZOFFSETTO:-0800
TZNAME:PST
DTSTART:20251102T090000
END:STANDARD
BEGIN:DAYLIGHT
TZOFFSETFROM:-0800
TZOFFSETTO:-0700
TZNAME:PDT
DTSTART:20260308T100000
END:DAYLIGHT
BEGIN:STANDARD
TZOFFSETFROM:-0700
TZOFFSETTO:-0800
TZNAME:PST
DTSTART:20261101T090000
END:STANDARD
END:VTIMEZONE
BEGIN:VEVENT
DTSTART;TZID=America/Los_Angeles:20250313T190000
DTEND;TZID=America/Los_Angeles:20250313T220000
DTSTAMP:20260426T014414
CREATED:20250303T224809Z
LAST-MODIFIED:20250310T003949Z
UID:463-1741892400-1741903200@soulbaum.com
SUMMARY:Joey Hosting Vocal Jazz Jam at Brother Barrel
DESCRIPTION:Join us for a night of jazz featuring Joey Walbaum performing and hosting the vocal jam. This feature is focused on diverse but instrumentalists are welcome to join in the fun. Vocalists come with a free songs ready and know your key. Remember this is a jam so improvised arrangements and vocalizing is encouraged! Bring charts or call something from the iReal standard list.\nSignup and opening set featuring Joey on vocals and piano at 7pm. Jam at 8.
URL:https://soulbaum.com/event/joey-hosting-vocal-jazz-jam-at-brother-barrel/
LOCATION:Brother Barrel\, 12535 Lake City Way NE\, Seattle\, WA\, United States
END:VEVENT
END:VCALENDAR